BEGIN:VCALENDAR
VERSION:2.0
PRODID:-//eventon.com NONSGML v1.0//EN
CALSCALE:GREGORIAN
METHOD:PUBLISH
BEGIN:VEVENT
UID:69e54df8d493e
DTSTAMP:20260419T214944Z
DTSTART:20240911T163000Z
DTEND:20240911T171500Z
LOCATION:
SUMMARY:Accreditation Lunch & Learn: Benefits to joining the HPA-OHT Accreditation Collaborative
DESCRIPTION:Target Audience. Executive Directors\,  CEOs and Organizational
  Leadership Why Attend? Interested in joining the HPA-OHT Accreditation Col
 laborative's 2024-2028 accreditation process. This is an opportunity to ask
  questions learn about the accreditation process\,  understand the signific
 ance of accreditation and hear first-hand from participating organizations.
  What You'll Learn Overview of the HPA-OHT[..]\nhttps://hpaoht.ca/events/ac
 creditation-lunch-learn-benefits-to-joining-the-hpa-oht-accreditation-colla
 borative/
URL:https://hpaoht.ca/events/accreditation-lunch-learn-benefits-to-joining-the-hpa-oht-accreditation-collaborative/
END:VEVENT
END:VCALENDAR