BEGIN:VCALENDAR
VERSION:2.0
PRODID:-//eventon.com NONSGML v1.0//EN
CALSCALE:GREGORIAN
METHOD:PUBLISH
BEGIN:VEVENT
UID:69e5fa8deca74
DTSTAMP:20260420T100605Z
DTSTART:20240326T160000Z
DTEND:20240326T173000Z
LOCATION:
SUMMARY:Furthering our Understanding of Equity in the Ontario Health System
DESCRIPTION:About the Webinar: The Health System Performance Network (HSPN)
  invites members of the Huron Perth & Area - Ontario Health Team and other 
 interested professionals to an enlightening session titled 'Furthering our 
 Understanding of Equity in the Ontario Health System.' This webinar aims to
  address critical health equity-related questions as[..]\nhttps://hpaoht.ca
 /events/furthering-our-understanding-of-equity-in-the-ontario-health-system
 /
URL:https://hpaoht.ca/events/furthering-our-understanding-of-equity-in-the-ontario-health-system/
END:VEVENT
END:VCALENDAR